BEGIN:VCALENDAR
PRODID:-//eluceo/ical//2.0/EN
VERSION:2.0
CALSCALE:GREGORIAN
BEGIN:VEVENT
UID:0c233e9d87c99d6cccdd7bb14ffcd5aa
DTSTAMP:20260423T094905Z
SUMMARY:Der Flughafen Zürich - im Spanunngsfeld der Interessen
DESCRIPTION:Relatore/i: Joanna Filippi\, Flughafen Zürich
URL:https://zug-kolin.rotary1980.ch/it/agenda/show/57036
DTSTART;TZID=Europe/Zurich:20160509T191500
DTEND;TZID=Europe/Zurich:20160509T191500
LOCATION:Restaurant Villette
CATEGORIES:Rotary
END:VEVENT
BEGIN:VTIMEZONE
TZID:Europe/Zurich
BEGIN:DAYLIGHT
DTSTART:20160509T191500
TZNAME:CEST
TZOFFSETTO:+0200
TZOFFSETFROM:+0200
END:DAYLIGHT
END:VTIMEZONE
END:VCALENDAR
