BEGIN:VCALENDAR
PRODID:-//eluceo/ical//2.0/EN
VERSION:2.0
CALSCALE:GREGORIAN
BEGIN:VEVENT
UID:056c18b5dfa89ec4cd7886dbf02fe266
DTSTAMP:20260424T104635Z
SUMMARY:Führung durch die "Nicola Erni Collection" Partneranlass (1. Grupp
 e)
DESCRIPTION:Sito web: http://www.nicolaernicollection.ch
URL:https://zug-kolin.rotary1980.ch/it/agenda/show/139436
DTSTART;TZID=Europe/Zurich:20220328T000000
DTEND;TZID=Europe/Zurich:20220328T000000
LOCATION:Steinhausen Erlenweg 2/5 Start 17:50 vor Ort
CATEGORIES:Rotary
END:VEVENT
BEGIN:VTIMEZONE
TZID:Europe/Zurich
BEGIN:DAYLIGHT
DTSTART:20220328T000000
TZNAME:CEST
TZOFFSETTO:+0200
TZOFFSETFROM:+0200
END:DAYLIGHT
END:VTIMEZONE
END:VCALENDAR
