BEGIN:VCALENDAR
PRODID:-//eluceo/ical//2.0/EN
VERSION:2.0
CALSCALE:GREGORIAN
BEGIN:VEVENT
UID:c4d4a10fb4b2844393390c91db8bf366
DTSTAMP:20260424T122755Z
SUMMARY:Schaffen und aktuelle Projekte von Zug Estates
DESCRIPTION:Sito web: http://www.restaurant-fontana.ch\nRelatore/i: Patrik 
 Stillhart\, CEO Zug Estates 
URL:https://zug-kolin.rotary1980.ch/it/agenda/show/139430
DTSTART;TZID=Europe/Zurich:20220314T000000
DTEND;TZID=Europe/Zurich:20220314T000000
LOCATION:Restaurant Fontana / online 20.30 / Vorstandssitzung 17.30
CATEGORIES:Rotary
END:VEVENT
BEGIN:VTIMEZONE
TZID:Europe/Zurich
BEGIN:STANDARD
DTSTART:20220314T000000
TZNAME:CET
TZOFFSETTO:+0100
TZOFFSETFROM:+0100
END:STANDARD
END:VTIMEZONE
END:VCALENDAR
