BEGIN:VCALENDAR
PRODID:-//eluceo/ical//2.0/EN
VERSION:2.0
CALSCALE:GREGORIAN
BEGIN:VEVENT
UID:047ac7c8dff665dbf047ed7406e94b40
DTSTAMP:20260419T201451Z
SUMMARY:Referat von Martin Fasser\, Präsident Zug Commodity Association: "
 Rohstoffhandel"
DESCRIPTION:
URL:https://zug-kolin.rotary1980.ch/fr/agenda/show/32644
DTSTART;TZID=Europe/Zurich:20131028T191500
DTEND;TZID=Europe/Zurich:20131028T191500
LOCATION:Restaurant Villette
CATEGORIES:Rotary
END:VEVENT
BEGIN:VTIMEZONE
TZID:Europe/Zurich
BEGIN:STANDARD
DTSTART:20131028T191500
TZNAME:CET
TZOFFSETTO:+0100
TZOFFSETFROM:+0100
END:STANDARD
END:VTIMEZONE
END:VCALENDAR
