BEGIN:VCALENDAR
PRODID:-//eluceo/ical//2.0/EN
VERSION:2.0
CALSCALE:GREGORIAN
BEGIN:VEVENT
UID:83bd72b62956584f7311c36c56222873
DTSTAMP:20260419T163207Z
SUMMARY:Zug - ein zweites St. Moritz?
DESCRIPTION:Conférencier(s): Urs Raschle\, Zug Tourismus
URL:https://zug-kolin.rotary1980.ch/fr/agenda/show/20829
DTSTART;TZID=Europe/Zurich:20120416T191500
DTEND;TZID=Europe/Zurich:20120416T191500
LOCATION:Restaurant Villette
CATEGORIES:Rotary
END:VEVENT
BEGIN:VTIMEZONE
TZID:Europe/Zurich
BEGIN:DAYLIGHT
DTSTART:20120416T191500
TZNAME:CEST
TZOFFSETTO:+0200
TZOFFSETFROM:+0200
END:DAYLIGHT
END:VTIMEZONE
END:VCALENDAR
