BEGIN:VCALENDAR
PRODID:-//eluceo/ical//2.0/EN
VERSION:2.0
CALSCALE:GREGORIAN
BEGIN:VEVENT
UID:04602591219826aecfb247d1cd02d936
DTSTAMP:20260419T163947Z
SUMMARY:Grundregeln der Markenführung
DESCRIPTION:Conférencier(s): Oscar Todeschini\, Scholtysik Niederberger Kr
 aft
URL:https://zug-kolin.rotary1980.ch/fr/agenda/show/20817
DTSTART;TZID=Europe/Zurich:20120123T191500
DTEND;TZID=Europe/Zurich:20120123T191500
LOCATION:Parkhotel Zug
CATEGORIES:Rotary
END:VEVENT
BEGIN:VTIMEZONE
TZID:Europe/Zurich
BEGIN:STANDARD
DTSTART:20120123T191500
TZNAME:CET
TZOFFSETTO:+0100
TZOFFSETFROM:+0100
END:STANDARD
END:VTIMEZONE
END:VCALENDAR
