BEGIN:VCALENDAR
PRODID:-//eluceo/ical//2.0/EN
VERSION:2.0
CALSCALE:GREGORIAN
BEGIN:VEVENT
UID:7bda2c02ef5578714bb4280d05179fb7
DTSTAMP:20260423T064108Z
SUMMARY:Taten statt Worte - wie Nachhaltigkeit bei EMMI gelebt wird
DESCRIPTION:Site internet: http://www.restaurant-fontana.ch\nConférencier(
 s): Etienne Schumpf\, Head Brand & Category Management EMMI
URL:https://zug-kolin.rotary1980.ch/fr/agenda/show/145930
DTSTART;TZID=Europe/Zurich:20220912T000000
DTEND;TZID=Europe/Zurich:20220922T000000
LOCATION:Restaurant Fontana\, Baarermattstrasse 11\, 6341 Baar
CATEGORIES:Rotary
END:VEVENT
BEGIN:VTIMEZONE
TZID:Europe/Zurich
BEGIN:DAYLIGHT
DTSTART:20220912T000000
TZNAME:CEST
TZOFFSETTO:+0200
TZOFFSETFROM:+0200
END:DAYLIGHT
END:VTIMEZONE
END:VCALENDAR
