BEGIN:VCALENDAR
PRODID:-//eluceo/ical//2.0/EN
VERSION:2.0
CALSCALE:GREGORIAN
BEGIN:VEVENT
UID:4295189053f900e157d0367075d96f06
DTSTAMP:20260423T101114Z
SUMMARY:Gesprächslunch
DESCRIPTION:Site internet: http://www.restaurant-fontana.ch
URL:https://zug-kolin.rotary1980.ch/fr/agenda/show/139434
DTSTART;TZID=Europe/Zurich:20220307T000000
DTEND;TZID=Europe/Zurich:20220307T000000
LOCATION:Restaurant Fontana\, Baarermattstrasse 11\, 6341 Baar
CATEGORIES:Rotary
END:VEVENT
BEGIN:VTIMEZONE
TZID:Europe/Zurich
BEGIN:STANDARD
DTSTART:20220307T000000
TZNAME:CET
TZOFFSETTO:+0100
TZOFFSETFROM:+0100
END:STANDARD
END:VTIMEZONE
END:VCALENDAR
