BEGIN:VCALENDAR
PRODID:-//eluceo/ical//2.0/EN
VERSION:2.0
CALSCALE:GREGORIAN
BEGIN:VEVENT
UID:91e377870b36ff2f1c0634643808349f
DTSTAMP:20260423T111525Z
SUMMARY:Gesprächslunch
DESCRIPTION:Site internet: http://www.restaurant-fontana.ch
URL:https://zug-kolin.rotary1980.ch/fr/agenda/show/137561
DTSTART;TZID=Europe/Zurich:20220207T000000
DTEND;TZID=Europe/Zurich:20220208T000000
LOCATION:Restaurant Fontana\, Baarermattstrasse 11\, 6341 Baar
CATEGORIES:Rotary
END:VEVENT
BEGIN:VTIMEZONE
TZID:Europe/Zurich
BEGIN:STANDARD
DTSTART:20220207T000000
TZNAME:CET
TZOFFSETTO:+0100
TZOFFSETFROM:+0100
END:STANDARD
END:VTIMEZONE
END:VCALENDAR
