BEGIN:VCALENDAR
PRODID:-//eluceo/ical//2.0/EN
VERSION:2.0
CALSCALE:GREGORIAN
BEGIN:VEVENT
UID:3574b9a12b44f3041e149222163f4ab6
DTSTAMP:20260420T093236Z
SUMMARY:Verein Aurora stellt sich vor
DESCRIPTION:\n\nDer Verein AURORA ist Informations- und Kontaktstelle für 
 Verwitwete. Den Mann\, die Frau\, den Papi oder das Mami zu verlieren\, st
 össt jeden in eine tiefe Verzweiflung\, wenn das Unfassbare plötzlich Re
 alität wird!\n\n\n\nEiner jungen Familie wird der Vater\, die Mutter entr
 issen. Der Tod hinterlässt eine tiefe Wunde\, die unheilbar scheint. Ein 
 solcher Schicksalsschlag verlangt den Hinterbliebenen viel Kraft ab.\n\nF
 ür Verwitwete mit minderjährigen Kindern ist der Ausweg aus Schmerz und 
 Trauer ganz besonders beschwerlich. Betroffene Mütter und Väter sind bei
  der Bewältigung des neuen\, ungewollten Lebensabschnittes oft auf sich a
 llein gestellt. Wer von seinem Lebenspartner oder seiner Lebenspartnerin u
 nerwartet verlassen wird\, sei es durch Unfall\, Krankheit oder Suizid\, s
 teht vor einer Flut von Problemen. Diese Anliegen greift AURORA auf. Beson
 ders schmerzhaft sind die Erfahrungen\, wenn Verwandte\, Freunde und Nachb
 arn sich zudem schwer tun\, auf sie zuzugehen. Der Verein AURORA bietet de
 n Betroffenen Hilfe an. Hier haben sich Verwitwete mit minderjährigen Kin
 dern zusammengeschlossen. Für die Kinder ist es sehr wichtig die Erfahrun
 g zu machen\, dass es noch andere gibt\, bei denen der Papi oder das Mami 
 gestorben ist. Die gemeinsamen Ferien sind ein wichtiges Ereignis. Kinder 
 helfen und stützen sich gegenseitig\, tauschen sich aus...\nOrador(es): A
 urora setzt sich für Jung_Verwitwete mit Kindern in der Schweiz ein.
URL:https://zug-kolin.rotary1980.ch/es/agenda/show/72029
DTSTART;TZID=Europe/Zurich:20170410T191500
DTEND;TZID=Europe/Zurich:20170410T191500
LOCATION:Restaurant Fontana\, Baar
CATEGORIES:Rotary
END:VEVENT
BEGIN:VTIMEZONE
TZID:Europe/Zurich
BEGIN:DAYLIGHT
DTSTART:20170410T191500
TZNAME:CEST
TZOFFSETTO:+0200
TZOFFSETFROM:+0200
END:DAYLIGHT
END:VTIMEZONE
END:VCALENDAR
