BEGIN:VCALENDAR
PRODID:-//eluceo/ical//2.0/EN
VERSION:2.0
CALSCALE:GREGORIAN
BEGIN:VEVENT
UID:f7c5fd7c2da092e23369040831ec226d
DTSTAMP:20260423T215553Z
SUMMARY:Aufgaben und Verantwortung einer Kantonsratspräsidentin
DESCRIPTION:Orador(es): Rot. Vreni Wicky
URL:https://zug-kolin.rotary1980.ch/es/agenda/show/27137
DTSTART;TZID=Europe/Zurich:20130325T191500
DTEND;TZID=Europe/Zurich:20130325T191500
LOCATION:Parkhotel Zug
CATEGORIES:Rotary
END:VEVENT
BEGIN:VTIMEZONE
TZID:Europe/Zurich
BEGIN:STANDARD
DTSTART:20130325T191500
TZNAME:CET
TZOFFSETTO:+0100
TZOFFSETFROM:+0100
END:STANDARD
END:VTIMEZONE
END:VCALENDAR
