BEGIN:VCALENDAR
PRODID:-//eluceo/ical//2.0/EN
VERSION:2.0
CALSCALE:GREGORIAN
BEGIN:VEVENT
UID:c00420180cddb0ff451dee50739039d9
DTSTAMP:20260424T035915Z
SUMMARY:Gesprächsdinner
DESCRIPTION:Sitio web: http://www.restaurant-fontana.ch\nOrador(es): 
URL:https://zug-kolin.rotary1980.ch/es/agenda/show/165760
DTSTART;TZID=Europe/Zurich:20230828T000000
DTEND;TZID=Europe/Zurich:20230828T000000
LOCATION:Restaurant Fontana\, Baarermattstrasse 11\, 6341 Baar
CATEGORIES:Rotary
END:VEVENT
BEGIN:VTIMEZONE
TZID:Europe/Zurich
BEGIN:DAYLIGHT
DTSTART:20230828T000000
TZNAME:CEST
TZOFFSETTO:+0200
TZOFFSETFROM:+0200
END:DAYLIGHT
END:VTIMEZONE
END:VCALENDAR
