BEGIN:VCALENDAR
PRODID:-//eluceo/ical//2.0/EN
VERSION:2.0
CALSCALE:GREGORIAN
BEGIN:VEVENT
UID:d45ac4073ee7e83f4e4d6a3819c43548
DTSTAMP:20260424T035544Z
SUMMARY:Gesprächsdinner
DESCRIPTION:Sitio web: http://www.restaurant-fontana.ch
URL:https://zug-kolin.rotary1980.ch/es/agenda/show/163671
DTSTART;TZID=Europe/Zurich:20230814T000000
DTEND;TZID=Europe/Zurich:20230819T000000
LOCATION:Restaurant Fontana\, Baarermattstrasse 11\, 6341 Baar
CATEGORIES:Rotary
END:VEVENT
BEGIN:VTIMEZONE
TZID:Europe/Zurich
BEGIN:DAYLIGHT
DTSTART:20230814T000000
TZNAME:CEST
TZOFFSETTO:+0200
TZOFFSETFROM:+0200
END:DAYLIGHT
END:VTIMEZONE
END:VCALENDAR
