BEGIN:VCALENDAR
PRODID:-//eluceo/ical//2.0/EN
VERSION:2.0
CALSCALE:GREGORIAN
BEGIN:VEVENT
UID:aefd6d01fc009a85cefa2a5e75ac7bf9
DTSTAMP:20260424T035802Z
SUMMARY:Gesprächslunch
DESCRIPTION:Sitio web: http://www.restaurant-fontana.ch
URL:https://zug-kolin.rotary1980.ch/es/agenda/show/163670
DTSTART;TZID=Europe/Zurich:20230807T000000
DTEND;TZID=Europe/Zurich:20230812T000000
LOCATION:Restaurant Fontana\, Baarermattstrasse 11\, 6341 Baar
CATEGORIES:Rotary
END:VEVENT
BEGIN:VTIMEZONE
TZID:Europe/Zurich
BEGIN:DAYLIGHT
DTSTART:20230807T000000
TZNAME:CEST
TZOFFSETTO:+0200
TZOFFSETFROM:+0200
END:DAYLIGHT
END:VTIMEZONE
END:VCALENDAR
