BEGIN:VCALENDAR
PRODID:-//eluceo/ical//2.0/EN
VERSION:2.0
CALSCALE:GREGORIAN
BEGIN:VEVENT
UID:681339dae41010619f0503b0cad8157b
DTSTAMP:20260424T100927Z
SUMMARY:20 Jahre - Jubiläum RC Zug-Kolin
DESCRIPTION:Orador(es): 20 Jahre RC Zug-Kolin
URL:https://zug-kolin.rotary1980.ch/es/agenda/show/163666
DTSTART;TZID=Europe/Zurich:20230710T000000
DTEND;TZID=Europe/Zurich:20230716T000000
LOCATION:Hotel Ochsen Zug
CATEGORIES:Rotary
END:VEVENT
BEGIN:VTIMEZONE
TZID:Europe/Zurich
BEGIN:DAYLIGHT
DTSTART:20230710T000000
TZNAME:CEST
TZOFFSETTO:+0200
TZOFFSETFROM:+0200
END:DAYLIGHT
END:VTIMEZONE
END:VCALENDAR
