BEGIN:VCALENDAR
PRODID:-//eluceo/ical//2.0/EN
VERSION:2.0
CALSCALE:GREGORIAN
BEGIN:VEVENT
UID:85b289434309ee24eb70e2c93b0e4a52
DTSTAMP:20260423T162731Z
SUMMARY:Information zum Moldawien - Projekt   auch online (20:30)
DESCRIPTION:Sitio web: http://www.restaurant-fontana.ch\nOrador(es): ROT He
 len Zühlke
URL:https://zug-kolin.rotary1980.ch/es/agenda/show/130494
DTSTART;TZID=Europe/Zurich:20210920T000000
DTEND;TZID=Europe/Zurich:20210920T000000
LOCATION:Restaurant Fontana\, Baarermattstrasse 11\, 6341 Baar
CATEGORIES:Rotary
END:VEVENT
BEGIN:VTIMEZONE
TZID:Europe/Zurich
BEGIN:DAYLIGHT
DTSTART:20210920T000000
TZNAME:CEST
TZOFFSETTO:+0200
TZOFFSETFROM:+0200
END:DAYLIGHT
END:VTIMEZONE
END:VCALENDAR
