BEGIN:VCALENDAR
PRODID:-//eluceo/ical//2.0/EN
VERSION:2.0
CALSCALE:GREGORIAN
BEGIN:VEVENT
UID:2f9ef11aa0f32bae5d8523b51fde45d6
DTSTAMP:20260423T162448Z
SUMMARY:Gedenkdinner Friedl Nussbaumer
DESCRIPTION:Sitio web: http://www.restaurant-fontana.ch\nOrador(es): 
URL:https://zug-kolin.rotary1980.ch/es/agenda/show/130492
DTSTART;TZID=Europe/Zurich:20210927T000000
DTEND;TZID=Europe/Zurich:20210927T000000
LOCATION:Restaurant Fontana\, Baarermattstrasse 11\, 6341 Baar
CATEGORIES:Rotary
END:VEVENT
BEGIN:VTIMEZONE
TZID:Europe/Zurich
BEGIN:DAYLIGHT
DTSTART:20210927T000000
TZNAME:CEST
TZOFFSETTO:+0200
TZOFFSETFROM:+0200
END:DAYLIGHT
END:VTIMEZONE
END:VCALENDAR
