BEGIN:VCALENDAR
PRODID:-//eluceo/ical//2.0/EN
VERSION:2.0
CALSCALE:GREGORIAN
BEGIN:VEVENT
UID:ace9667b2f1a0076ba8e77c6cddd90cc
DTSTAMP:20260424T100519Z
SUMMARY:Geheimnisse der Gehörlosensprache
DESCRIPTION:Speaker(s): Gian Reto Janki und Kathrin Wüthrich
URL:https://zug-kolin.rotary1980.ch/en/agenda/show/20871
DTSTART;TZID=Europe/Zurich:20120521T191500
DTEND;TZID=Europe/Zurich:20120521T191500
LOCATION:Restaurant Villette
CATEGORIES:Rotary
END:VEVENT
BEGIN:VTIMEZONE
TZID:Europe/Zurich
BEGIN:DAYLIGHT
DTSTART:20120521T191500
TZNAME:CEST
TZOFFSETTO:+0200
TZOFFSETFROM:+0200
END:DAYLIGHT
END:VTIMEZONE
END:VCALENDAR
