BEGIN:VCALENDAR
PRODID:-//eluceo/ical//2.0/EN
VERSION:2.0
CALSCALE:GREGORIAN
BEGIN:VEVENT
UID:64f0a773653174b8af9eac6135701bbe
DTSTAMP:20260425T212903Z
SUMMARY:Das Verhältnis USA-Schweiz\, Referat von Martin Naville\, CEO Swis
 s American Chamber of Commerce
DESCRIPTION:
URL:https://zug-kolin.rotary1980.ch/de/agenda/show/32462
DTSTART;TZID=Europe/Zurich:20130819T191500
DTEND;TZID=Europe/Zurich:20130819T191500
LOCATION:Restaurant Villette
CATEGORIES:Rotary
END:VEVENT
BEGIN:VTIMEZONE
TZID:Europe/Zurich
BEGIN:DAYLIGHT
DTSTART:20130819T191500
TZNAME:CEST
TZOFFSETTO:+0200
TZOFFSETFROM:+0200
END:DAYLIGHT
END:VTIMEZONE
END:VCALENDAR
