BEGIN:VCALENDAR
PRODID:-//eluceo/ical//2.0/EN
VERSION:2.0
CALSCALE:GREGORIAN
BEGIN:VEVENT
UID:454e8950bfb72774955e1b83e7a82a67
DTSTAMP:20260426T042116Z
SUMMARY:Plauder-Nachtessen
DESCRIPTION:
URL:https://zug-kolin.rotary1980.ch/de/agenda/show/27131
DTSTART;TZID=Europe/Zurich:20130211T191500
DTEND;TZID=Europe/Zurich:20130211T191500
LOCATION:Parkhotel Zug
CATEGORIES:Rotary
END:VEVENT
BEGIN:VTIMEZONE
TZID:Europe/Zurich
BEGIN:STANDARD
DTSTART:20130211T191500
TZNAME:CET
TZOFFSETTO:+0100
TZOFFSETFROM:+0100
END:STANDARD
END:VTIMEZONE
END:VCALENDAR
