BEGIN:VCALENDAR
PRODID:-//eluceo/ical//2.0/EN
VERSION:2.0
CALSCALE:GREGORIAN
BEGIN:VEVENT
UID:4e4c7fc4218b36681b3abef62a2c895d
DTSTAMP:20260422T161027Z
SUMMARY:Referat von Prof. Dr. Ernst Hafen\, ETH Zürich: "Genome meets iPho
 ne - Die Zukunft von Gesundheitsdaten"
DESCRIPTION:
URL:https://zug-kolin.rotary1980.ch/bs/agenda/show/32655
DTSTART;TZID=Europe/Zurich:20140113T191500
DTEND;TZID=Europe/Zurich:20140113T191500
LOCATION:Parkhotel Zug
CATEGORIES:Rotary
END:VEVENT
BEGIN:VTIMEZONE
TZID:Europe/Zurich
BEGIN:STANDARD
DTSTART:20140113T191500
TZNAME:CET
TZOFFSETTO:+0100
TZOFFSETFROM:+0100
END:STANDARD
END:VTIMEZONE
END:VCALENDAR
