BEGIN:VCALENDAR
PRODID:-//eluceo/ical//2.0/EN
VERSION:2.0
CALSCALE:GREGORIAN
BEGIN:VEVENT
UID:b05cd26ce54e1417d8312b59d30d773b
DTSTAMP:20260419T160605Z
SUMMARY:Weihnachts-Feier\, Partneranlass
DESCRIPTION:Govornik(ci): bes. Programm
URL:https://zug-kolin.rotary1980.ch/bs/agenda/show/32651
DTSTART;TZID=Europe/Zurich:20131216T190000
DTEND;TZID=Europe/Zurich:20131216T190000
LOCATION:Restaurant Zugerberg
CATEGORIES:Rotary
END:VEVENT
BEGIN:VTIMEZONE
TZID:Europe/Zurich
BEGIN:STANDARD
DTSTART:20131216T190000
TZNAME:CET
TZOFFSETTO:+0100
TZOFFSETFROM:+0100
END:STANDARD
END:VTIMEZONE
END:VCALENDAR
