BEGIN:VCALENDAR
PRODID:-//eluceo/ical//2.0/EN
VERSION:2.0
CALSCALE:GREGORIAN
BEGIN:VEVENT
UID:b44d237f055fabb325bc156e2ff39842
DTSTAMP:20260423T094400Z
SUMMARY:Besuch Pipeline-Kontroll-Zentrum der Nordstream\, anschl. Präsenta
 tion (englisch) und Apéro Riche im Parkhotel
DESCRIPTION:
URL:https://zug-kolin.rotary1980.ch/bs/agenda/show/32650
DTSTART;TZID=Europe/Zurich:20131209T183000
DTEND;TZID=Europe/Zurich:20131209T183000
LOCATION:Parkhotel Zug
CATEGORIES:Rotary
END:VEVENT
BEGIN:VTIMEZONE
TZID:Europe/Zurich
BEGIN:STANDARD
DTSTART:20131209T183000
TZNAME:CET
TZOFFSETTO:+0100
TZOFFSETFROM:+0100
END:STANDARD
END:VTIMEZONE
END:VCALENDAR
