BEGIN:VCALENDAR
PRODID:-//eluceo/ical//2.0/EN
VERSION:2.0
CALSCALE:GREGORIAN
BEGIN:VEVENT
UID:004da27874cca0caf10a7f0049e620d9
DTSTAMP:20260424T123447Z
SUMMARY:Gesprächsdinner
DESCRIPTION:Web stranica: http://www.restaurant-fontana.ch
URL:https://zug-kolin.rotary1980.ch/bs/agenda/show/166461
DTSTART;TZID=Europe/Zurich:20231023T000000
DTEND;TZID=Europe/Zurich:20231023T000000
LOCATION:Restaurant Fontana\, Baarermattstrasse 11\, 6341 Baar
CATEGORIES:Rotary
END:VEVENT
BEGIN:VTIMEZONE
TZID:Europe/Zurich
BEGIN:DAYLIGHT
DTSTART:20231023T000000
TZNAME:CEST
TZOFFSETTO:+0200
TZOFFSETFROM:+0200
END:DAYLIGHT
END:VTIMEZONE
END:VCALENDAR
