BEGIN:VCALENDAR
PRODID:-//eluceo/ical//2.0/EN
VERSION:2.0
CALSCALE:GREGORIAN
BEGIN:VEVENT
UID:b369bb92342c1e1b5568bad5a6ee3c3d
DTSTAMP:20260423T071726Z
SUMMARY:Ein Leben zwischen Wissenschaft und Translation
DESCRIPTION:Govornik(ci): Prof. Gebhard Schertler\, Paul Scherrer Institut
URL:https://zug-kolin.rotary1980.ch/bs/agenda/show/137560
DTSTART;TZID=Europe/Zurich:20220131T000000
DTEND;TZID=Europe/Zurich:20220131T000000
LOCATION:20.30 / online
CATEGORIES:Rotary
END:VEVENT
BEGIN:VTIMEZONE
TZID:Europe/Zurich
BEGIN:STANDARD
DTSTART:20220131T000000
TZNAME:CET
TZOFFSETTO:+0100
TZOFFSETFROM:+0100
END:STANDARD
END:VTIMEZONE
END:VCALENDAR
